BEGIN:VCALENDAR
VERSION:2.0
PRODID:-//Mantra Meditation premanaam - ECPv6.15.15//NONSGML v1.0//EN
CALSCALE:GREGORIAN
METHOD:PUBLISH
X-WR-CALNAME:Mantra Meditation premanaam
X-ORIGINAL-URL:https://www.mantra-meditation.ch
X-WR-CALDESC:Veranstaltungen für Mantra Meditation premanaam
REFRESH-INTERVAL;VALUE=DURATION:PT1H
X-Robots-Tag:noindex
X-PUBLISHED-TTL:PT1H
BEGIN:VTIMEZONE
TZID:Europe/Helsinki
BEGIN:DAYLIGHT
TZOFFSETFROM:+0200
TZOFFSETTO:+0300
TZNAME:EEST
DTSTART:20230326T010000
END:DAYLIGHT
BEGIN:STANDARD
TZOFFSETFROM:+0300
TZOFFSETTO:+0200
TZNAME:EET
DTSTART:20231029T010000
END:STANDARD
BEGIN:DAYLIGHT
TZOFFSETFROM:+0200
TZOFFSETTO:+0300
TZNAME:EEST
DTSTART:20240331T010000
END:DAYLIGHT
BEGIN:STANDARD
TZOFFSETFROM:+0300
TZOFFSETTO:+0200
TZNAME:EET
DTSTART:20241027T010000
END:STANDARD
BEGIN:DAYLIGHT
TZOFFSETFROM:+0200
TZOFFSETTO:+0300
TZNAME:EEST
DTSTART:20250330T010000
END:DAYLIGHT
BEGIN:STANDARD
TZOFFSETFROM:+0300
TZOFFSETTO:+0200
TZNAME:EET
DTSTART:20251026T010000
END:STANDARD
END:VTIMEZONE
BEGIN:VEVENT
DTSTART;TZID=Europe/Helsinki:20241213T193000
DTEND;TZID=Europe/Helsinki:20241213T210000
DTSTAMP:20260420T084753
CREATED:20240615T041916Z
LAST-MODIFIED:20240615T041916Z
UID:1044-1734118200-1734123600@www.mantra-meditation.ch
SUMMARY:StadtLichtung Winterthur (Haus zum Widder)
DESCRIPTION:Gönnen Sie sich regelmässig eine Entspannungspause\, finden Sie den Ausgleich zu Ihrem Alltag\,  denn das Erleben von Ruhe und Gelassenheit gibt Ihnen ganz andere Lebensqualität\, Harmonie\,  Freude\, innere Kraft und Glückseligkeit.   \nEintritt auf Spendenbasis \nShare0Share0Share0Share0Share0Share0Share0
URL:https://www.mantra-meditation.ch/event/stadtlichtung-winterthur-haus-zum-widder-dezember2024/
LOCATION:StadtLichtung – Haus zum Widder\, Spitalgasse 11\, Winterthur\, 8400\, Schweiz
CATEGORIES:Konzert
END:VEVENT
END:VCALENDAR